BEGIN:VCALENDAR
VERSION:2.0
PRODID:-//StreamRadar//Match Calendar//EN
CALSCALE:GREGORIAN
METHOD:PUBLISH
X-WR-CALNAME:Olympic Niamey vs Police
X-WR-TIMEZONE:America/New_York
BEGIN:VEVENT
UID:match-5616081@streamradar.soccer
SUMMARY:Olympic Niamey vs Police
DTSTAMP:20260421T092523Z
DTSTART;TZID=America/New_York:20260418T110000
DTEND;TZID=America/New_York:20260418T130000
LOCATION:Stade Général Seyni Kountché (Niamey)
DESCRIPTION:Где смотреть Olympic Niamey – Police в турни
 ре Нигер - Super Ligue. Прямая трансляция и тел
 программа.\nhttps://streamradar.soccer/ru/match/5616081/olympic-n
 iamey-vs-police/
URL;VALUE=URI:https://streamradar.soccer/ru/match/5616081/olympic-niamey-vs
 -police/
STATUS:CONFIRMED
END:VEVENT
END:VCALENDAR
