BEGIN:VCALENDAR
VERSION:2.0
PRODID:-//StreamRadar//Match Calendar//EN
CALSCALE:GREGORIAN
METHOD:PUBLISH
X-WR-CALNAME:Univ. Alba Iulia vs Progresul Pecica
X-WR-TIMEZONE:America/New_York
BEGIN:VEVENT
UID:match-5615556@streamradar.soccer
SUMMARY:Univ. Alba Iulia vs Progresul Pecica
DTSTAMP:20260421T091934Z
DTSTART;TZID=America/New_York:20260516T110000
DTEND;TZID=America/New_York:20260516T130000
DESCRIPTION:Где смотреть Univ. Alba Iulia – Progresul Pecica 
  турнире Румыния - Liga III. Прямая трансляци
 я и телепрограмма.\nhttps://streamradar.soccer/ru/match/5615
 556/univ-alba-iulia-vs-progresul-pecica/
URL;VALUE=URI:https://streamradar.soccer/ru/match/5615556/univ-alba-iulia-v
 s-progresul-pecica/
STATUS:CONFIRMED
END:VEVENT
END:VCALENDAR
