BEGIN:VCALENDAR
VERSION:2.0
PRODID:-//StreamRadar//Match Calendar//EN
CALSCALE:GREGORIAN
METHOD:PUBLISH
X-WR-CALNAME:Unirea Dmo vs Santana
X-WR-TIMEZONE:America/New_York
BEGIN:VEVENT
UID:match-5615555@streamradar.soccer
SUMMARY:Unirea Dmo vs Santana
DTSTAMP:20260421T104300Z
DTSTART;TZID=America/New_York:20260516T110000
DTEND;TZID=America/New_York:20260516T130000
DESCRIPTION:Где смотреть Unirea Dmo – Santana в турнир
  Румыния - Liga III. Прямая трансляция и теле
 рограмма.\nhttps://streamradar.soccer/ru/match/5615555/unirea-dmo-
 vs-santana/
URL;VALUE=URI:https://streamradar.soccer/ru/match/5615555/unirea-dmo-vs-san
 tana/
STATUS:CONFIRMED
END:VEVENT
END:VCALENDAR
