BEGIN:VCALENDAR
VERSION:2.0
PRODID:-//StreamRadar//Match Calendar//EN
CALSCALE:GREGORIAN
METHOD:PUBLISH
X-WR-CALNAME:ARO Muscelul Câmpulung vs Gilortul
X-WR-TIMEZONE:America/New_York
BEGIN:VEVENT
UID:match-5615552@streamradar.soccer
SUMMARY:ARO Muscelul Câmpulung vs Gilortul
DTSTAMP:20260421T093019Z
DTSTART;TZID=America/New_York:20260516T110000
DTEND;TZID=America/New_York:20260516T130000
DESCRIPTION:Где смотреть ARO Muscelul Câmpulung – Gilortul в
  турнире Румыния - Liga III. Прямая трансляци
  и телепрограмма.\nhttps://streamradar.soccer/ru/match/56155
 52/aro-muscelul-campulung-vs-gilortul/
URL;VALUE=URI:https://streamradar.soccer/ru/match/5615552/aro-muscelul-camp
 ulung-vs-gilortul/
STATUS:CONFIRMED
END:VEVENT
END:VCALENDAR
