BEGIN:VCALENDAR
VERSION:2.0
PRODID:-//StreamRadar//Match Calendar//EN
CALSCALE:GREGORIAN
METHOD:PUBLISH
X-WR-CALNAME:Vointa Crevedia vs Titu
X-WR-TIMEZONE:America/New_York
BEGIN:VEVENT
UID:match-5615549@streamradar.soccer
SUMMARY:Vointa Crevedia vs Titu
DTSTAMP:20260421T120421Z
DTSTART;TZID=America/New_York:20260516T110000
DTEND;TZID=America/New_York:20260516T130000
DESCRIPTION:Где смотреть Vointa Crevedia – Titu в турни
 е Румыния - Liga III. Прямая трансляция и тел
 программа.\nhttps://streamradar.soccer/ru/match/5615549/vointa-cr
 evedia-vs-titu/
URL;VALUE=URI:https://streamradar.soccer/ru/match/5615549/vointa-crevedia-v
 s-titu/
STATUS:CONFIRMED
END:VEVENT
END:VCALENDAR
