BEGIN:VCALENDAR
VERSION:2.0
PRODID:-//StreamRadar//Match Calendar//EN
CALSCALE:GREGORIAN
METHOD:PUBLISH
X-WR-CALNAME:Agigea vs Progresul Fundulea
X-WR-TIMEZONE:America/New_York
BEGIN:VEVENT
UID:match-5615544@streamradar.soccer
SUMMARY:Agigea vs Progresul Fundulea
DTSTAMP:20260421T091625Z
DTSTART;TZID=America/New_York:20260516T110000
DTEND;TZID=America/New_York:20260516T130000
DESCRIPTION:Где смотреть Agigea – Progresul Fundulea в тур
 нире Румыния - Liga III. Прямая трансляция и т
 елепрограмма.\nhttps://streamradar.soccer/ru/match/5615544/agig
 ea-vs-progresul-fundulea/
URL;VALUE=URI:https://streamradar.soccer/ru/match/5615544/agigea-vs-progres
 ul-fundulea/
STATUS:CONFIRMED
END:VEVENT
END:VCALENDAR
