BEGIN:VCALENDAR
VERSION:2.0
PRODID:-//StreamRadar//Match Calendar//EN
CALSCALE:GREGORIAN
METHOD:PUBLISH
X-WR-CALNAME:Volna Nizhegorodskaya vs Salyut Belgorod
X-WR-TIMEZONE:America/New_York
BEGIN:VEVENT
UID:match-5615534@streamradar.soccer
SUMMARY:Volna Nizhegorodskaya vs Salyut Belgorod
DTSTAMP:20260421T093138Z
DTSTART;TZID=America/New_York:20260516T090000
DTEND;TZID=America/New_York:20260516T110000
DESCRIPTION:Где смотреть Volna Nizhegorodskaya – Салют Б
 елгород в турнире Россия - Вторая Лига Ро
 сии. Прямая трансляция и телепрограмма.\n
 https://streamradar.soccer/ru/match/5615534/volna-nizhegorodskaya-vs-salyut
 -belgorod/
URL;VALUE=URI:https://streamradar.soccer/ru/match/5615534/volna-nizhegorods
 kaya-vs-salyut-belgorod/
STATUS:CONFIRMED
END:VEVENT
END:VCALENDAR
