BEGIN:VCALENDAR
VERSION:2.0
PRODID:-//StreamRadar//Match Calendar//EN
CALSCALE:GREGORIAN
METHOD:PUBLISH
X-WR-CALNAME:FK Spartak Tambov vs Rodina Moskva III
X-WR-TIMEZONE:America/New_York
BEGIN:VEVENT
UID:match-5615533@streamradar.soccer
SUMMARY:FK Spartak Tambov vs Rodina Moskva III
DTSTAMP:20260421T080829Z
DTSTART;TZID=America/New_York:20260516T090000
DTEND;TZID=America/New_York:20260516T110000
DESCRIPTION:Где смотреть Спартак Тамбов – Род
 на-М в турнире Россия - Вторая Лига Росси
 . Прямая трансляция и телепрограмма.\nhttps:
 //streamradar.soccer/ru/match/5615533/fk-spartak-tambov-vs-rodina-moskva-ii
 i/
URL;VALUE=URI:https://streamradar.soccer/ru/match/5615533/fk-spartak-tambov
 -vs-rodina-moskva-iii/
STATUS:CONFIRMED
END:VEVENT
END:VCALENDAR
