BEGIN:VCALENDAR
VERSION:2.0
PRODID:-//StreamRadar//Match Calendar//EN
CALSCALE:GREGORIAN
METHOD:PUBLISH
X-WR-CALNAME:Avangard Kursk vs Orel
X-WR-TIMEZONE:America/New_York
BEGIN:VEVENT
UID:match-5615530@streamradar.soccer
SUMMARY:Avangard Kursk vs Orel
DTSTAMP:20260421T141607Z
DTSTART;TZID=America/New_York:20260516T090000
DTEND;TZID=America/New_York:20260516T110000
DESCRIPTION:Где смотреть Авангард (Курск) – Orel 
 в турнире Россия - Вторая Лига России. Пря
 мая трансляция и телепрограмма.\nhttps://streamr
 adar.soccer/ru/match/5615530/avangard-kursk-vs-orel/
URL;VALUE=URI:https://streamradar.soccer/ru/match/5615530/avangard-kursk-vs
 -orel/
STATUS:CONFIRMED
END:VEVENT
END:VCALENDAR
