BEGIN:VCALENDAR
VERSION:2.0
PRODID:-//StreamRadar//Match Calendar//EN
CALSCALE:GREGORIAN
METHOD:PUBLISH
X-WR-CALNAME:Dinamo St. Petersburg vs Kosmos Dolgoprudny
X-WR-TIMEZONE:America/New_York
BEGIN:VEVENT
UID:match-5615526@streamradar.soccer
SUMMARY:Dinamo St. Petersburg vs Kosmos Dolgoprudny
DTSTAMP:20260421T104946Z
DTSTART;TZID=America/New_York:20260516T090000
DTEND;TZID=America/New_York:20260516T110000
DESCRIPTION:Где смотреть Dinamo St. Petersburg – Космос 
 Долгопрудный в турнире Россия - Вторая Ли
 га России. Прямая трансляция и телепрогр
 мма.\nhttps://streamradar.soccer/ru/match/5615526/dinamo-st-petersburg-
 vs-kosmos-dolgoprudny/
URL;VALUE=URI:https://streamradar.soccer/ru/match/5615526/dinamo-st-petersb
 urg-vs-kosmos-dolgoprudny/
STATUS:CONFIRMED
END:VEVENT
END:VCALENDAR
