BEGIN:VCALENDAR
VERSION:2.0
PRODID:-//StreamRadar//Match Calendar//EN
CALSCALE:GREGORIAN
METHOD:PUBLISH
X-WR-CALNAME:Standard Liège vs Anderlecht
X-WR-TIMEZONE:America/New_York
BEGIN:VEVENT
UID:match-5615509@streamradar.soccer
SUMMARY:Standard Liège vs Anderlecht
DTSTAMP:20260421T141612Z
DTSTART;TZID=America/New_York:20260516T130000
DTEND;TZID=America/New_York:20260516T150000
DESCRIPTION:Где смотреть Standard Liège – Anderlecht в ту
 нире Бельгия - Women's Super League. Прямая трансл
 ция и телепрограмма.\nhttps://streamradar.soccer/ru/match
 /5615509/standard-liege-vs-anderlecht/
URL;VALUE=URI:https://streamradar.soccer/ru/match/5615509/standard-liege-vs
 -anderlecht/
STATUS:CONFIRMED
END:VEVENT
END:VCALENDAR
