BEGIN:VCALENDAR
VERSION:2.0
PRODID:-//StreamRadar//Match Calendar//EN
CALSCALE:GREGORIAN
METHOD:PUBLISH
X-WR-CALNAME:Zulte-Waregem vs Westerlo
X-WR-TIMEZONE:America/New_York
BEGIN:VEVENT
UID:match-5615508@streamradar.soccer
SUMMARY:Zulte-Waregem vs Westerlo
DTSTAMP:20260421T092021Z
DTSTART;TZID=America/New_York:20260516T100000
DTEND;TZID=America/New_York:20260516T120000
DESCRIPTION:Где смотреть Zulte-Waregem – Westerlo в турн
 ре Бельгия - Women's Super League. Прямая трансляц
 я и телепрограмма.\nhttps://streamradar.soccer/ru/match/561
 5508/zulte-waregem-vs-westerlo/
URL;VALUE=URI:https://streamradar.soccer/ru/match/5615508/zulte-waregem-vs-
 westerlo/
STATUS:CONFIRMED
END:VEVENT
END:VCALENDAR
