BEGIN:VCALENDAR
VERSION:2.0
PRODID:-//StreamRadar//Match Calendar//EN
CALSCALE:GREGORIAN
METHOD:PUBLISH
X-WR-CALNAME:Trajal Krusevac vs FAP
X-WR-TIMEZONE:America/New_York
BEGIN:VEVENT
UID:match-5615468@streamradar.soccer
SUMMARY:Trajal Krusevac vs FAP
DTSTAMP:20260421T063146Z
DTSTART;TZID=America/New_York:20260516T110000
DTEND;TZID=America/New_York:20260516T130000
LOCATION:Stadion FK Trayal
DESCRIPTION:Где смотреть Trajal Krusevac – FAP в турнир
 е Сербия - Первая лига. Прямая трансляция 
 и телепрограмма.\nhttps://streamradar.soccer/ru/match/5615468
 /trajal-krusevac-vs-fap/
URL;VALUE=URI:https://streamradar.soccer/ru/match/5615468/trajal-krusevac-v
 s-fap/
STATUS:CONFIRMED
END:VEVENT
END:VCALENDAR
