BEGIN:VCALENDAR
VERSION:2.0
PRODID:-//StreamRadar//Match Calendar//EN
CALSCALE:GREGORIAN
METHOD:PUBLISH
X-WR-CALNAME:Tekstilac Odžaci vs Ušće Novi Beograd
X-WR-TIMEZONE:America/New_York
BEGIN:VEVENT
UID:match-5615467@streamradar.soccer
SUMMARY:Tekstilac Odžaci vs Ušće Novi Beograd
DTSTAMP:20260421T063152Z
DTSTART;TZID=America/New_York:20260516T110000
DTEND;TZID=America/New_York:20260516T130000
DESCRIPTION:Где смотреть Tekstilac Odžaci – Ušće Novi Beogr
 ad в турнире Сербия - Первая лига. Прямая т
 ансляция и телепрограмма.\nhttps://streamradar.socce
 r/ru/match/5615467/tekstilac-odzaci-vs-usce-novi-beograd/
URL;VALUE=URI:https://streamradar.soccer/ru/match/5615467/tekstilac-odzaci-
 vs-usce-novi-beograd/
STATUS:CONFIRMED
END:VEVENT
END:VCALENDAR
