BEGIN:VCALENDAR
VERSION:2.0
PRODID:-//StreamRadar//Match Calendar//EN
CALSCALE:GREGORIAN
METHOD:PUBLISH
X-WR-CALNAME:Afrique Football Élite vs Binga
X-WR-TIMEZONE:America/New_York
BEGIN:VEVENT
UID:match-5615460@streamradar.soccer
SUMMARY:Afrique Football Élite vs Binga
DTSTAMP:20260420T050541Z
DTSTART;TZID=America/New_York:20260513T143000
DTEND;TZID=America/New_York:20260513T163000
DESCRIPTION:Где смотреть Afrique Football Élite – Binga в т
 урнире Мали - Première Division. Прямая трансляци
 я и телепрограмма.\nhttps://streamradar.soccer/ru/match/5615
 460/afrique-football-elite-vs-binga/
URL;VALUE=URI:https://streamradar.soccer/ru/match/5615460/afrique-football-
 elite-vs-binga/
STATUS:CONFIRMED
END:VEVENT
END:VCALENDAR
