BEGIN:VCALENDAR
VERSION:2.0
PRODID:-//StreamRadar//Match Calendar//EN
CALSCALE:GREGORIAN
METHOD:PUBLISH
X-WR-CALNAME:Diarra vs ASKO
X-WR-TIMEZONE:America/New_York
BEGIN:VEVENT
UID:match-5615458@streamradar.soccer
SUMMARY:Diarra vs ASKO
DTSTAMP:20260421T085416Z
DTSTART;TZID=America/New_York:20260513T123000
DTEND;TZID=America/New_York:20260513T143000
DESCRIPTION:Где смотреть Diarra – ASKO в турнире Ма
 и - Première Division. Прямая трансляция и телепр
 ограмма.\nhttps://streamradar.soccer/ru/match/5615458/diarra-vs-asko
 /
URL;VALUE=URI:https://streamradar.soccer/ru/match/5615458/diarra-vs-asko/
STATUS:CONFIRMED
END:VEVENT
END:VCALENDAR
