BEGIN:VCALENDAR
VERSION:2.0
PRODID:-//StreamRadar//Match Calendar//EN
CALSCALE:GREGORIAN
METHOD:PUBLISH
X-WR-CALNAME:Réal Bamako vs Diarra
X-WR-TIMEZONE:America/New_York
BEGIN:VEVENT
UID:match-5615451@streamradar.soccer
SUMMARY:Réal Bamako vs Diarra
DTSTAMP:20260421T095830Z
DTSTART;TZID=America/New_York:20260506T123000
DTEND;TZID=America/New_York:20260506T143000
DESCRIPTION:Где смотреть Réal Bamako – Diarra в турнир
 е Мали - Première Division. Прямая трансляция и те
 лепрограмма.\nhttps://streamradar.soccer/ru/match/5615451/real-b
 amako-vs-diarra/
URL;VALUE=URI:https://streamradar.soccer/ru/match/5615451/real-bamako-vs-di
 arra/
STATUS:CONFIRMED
END:VEVENT
END:VCALENDAR
