BEGIN:VCALENDAR
VERSION:2.0
PRODID:-//StreamRadar//Match Calendar//EN
CALSCALE:GREGORIAN
METHOD:PUBLISH
X-WR-CALNAME:Derby Academie vs Onze Créateurs
X-WR-TIMEZONE:America/New_York
BEGIN:VEVENT
UID:match-5615450@streamradar.soccer
SUMMARY:Derby Academie vs Onze Créateurs
DTSTAMP:20260421T093020Z
DTSTART;TZID=America/New_York:20260506T123000
DTEND;TZID=America/New_York:20260506T143000
DESCRIPTION:Где смотреть Derby Academie – Onze Créateurs в 
 урнире Мали - Première Division. Прямая трансляц
 я и телепрограмма.\nhttps://streamradar.soccer/ru/match/561
 5450/derby-academie-vs-onze-createurs/
URL;VALUE=URI:https://streamradar.soccer/ru/match/5615450/derby-academie-vs
 -onze-createurs/
STATUS:CONFIRMED
END:VEVENT
END:VCALENDAR
