BEGIN:VCALENDAR
VERSION:2.0
PRODID:-//StreamRadar//Match Calendar//EN
CALSCALE:GREGORIAN
METHOD:PUBLISH
X-WR-CALNAME:Uberlândia vs Betim
X-WR-TIMEZONE:America/New_York
BEGIN:VEVENT
UID:match-5615428@streamradar.soccer
SUMMARY:Uberlândia vs Betim
DTSTAMP:20260421T141618Z
DTSTART;TZID=America/New_York:20260516T160000
DTEND;TZID=America/New_York:20260516T180000
DESCRIPTION:Где смотреть Uberlândia – Betim в турнире
  Бразилия - Serie D. Прямая трансляция и теле
 рограмма.\nhttps://streamradar.soccer/ru/match/5615428/uberlandia-
 vs-betim/
URL;VALUE=URI:https://streamradar.soccer/ru/match/5615428/uberlandia-vs-bet
 im/
STATUS:CONFIRMED
END:VEVENT
END:VCALENDAR
