BEGIN:VCALENDAR
VERSION:2.0
PRODID:-//StreamRadar//Match Calendar//EN
CALSCALE:GREGORIAN
METHOD:PUBLISH
X-WR-CALNAME:Tirol vs Fluminense PI
X-WR-TIMEZONE:America/New_York
BEGIN:VEVENT
UID:match-5615423@streamradar.soccer
SUMMARY:Tirol vs Fluminense PI
DTSTAMP:20260421T091934Z
DTSTART;TZID=America/New_York:20260516T160000
DTEND;TZID=America/New_York:20260516T180000
DESCRIPTION:Где смотреть Tirol – Fluminense PI в турнир
 е Бразилия - Serie D. Прямая трансляция и тел
 программа.\nhttps://streamradar.soccer/ru/match/5615423/tirol-vs-
 fluminense-pi/
URL;VALUE=URI:https://streamradar.soccer/ru/match/5615423/tirol-vs-fluminen
 se-pi/
STATUS:CONFIRMED
END:VEVENT
END:VCALENDAR
