BEGIN:VCALENDAR
VERSION:2.0
PRODID:-//StreamRadar//Match Calendar//EN
CALSCALE:GREGORIAN
METHOD:PUBLISH
X-WR-CALNAME:Ferroviário vs Atlético Cearense
X-WR-TIMEZONE:America/New_York
BEGIN:VEVENT
UID:match-5615394@streamradar.soccer
SUMMARY:Ferroviário vs Atlético Cearense
DTSTAMP:20260421T092521Z
DTSTART;TZID=America/New_York:20260516T160000
DTEND;TZID=America/New_York:20260516T180000
LOCATION:Estadio Presidente Vargas
DESCRIPTION:Где смотреть Ferroviário – Atlético Cearense в 
 турнире Бразилия - Serie D. Прямая трансляци
  и телепрограмма.\nhttps://streamradar.soccer/ru/match/56153
 94/ferroviario-vs-atletico-cearense/
URL;VALUE=URI:https://streamradar.soccer/ru/match/5615394/ferroviario-vs-at
 letico-cearense/
STATUS:CONFIRMED
END:VEVENT
END:VCALENDAR
