BEGIN:VCALENDAR
VERSION:2.0
PRODID:-//StreamRadar//Match Calendar//EN
CALSCALE:GREGORIAN
METHOD:PUBLISH
X-WR-CALNAME:ASA vs Juazeirense
X-WR-TIMEZONE:America/New_York
BEGIN:VEVENT
UID:match-5615386@streamradar.soccer
SUMMARY:ASA vs Juazeirense
DTSTAMP:20260421T092428Z
DTSTART;TZID=America/New_York:20260516T160000
DTEND;TZID=America/New_York:20260516T180000
DESCRIPTION:Где смотреть ASA – Juazeirense в турнире 
 разилия - Serie D. Прямая трансляция и телеп
 ограмма.\nhttps://streamradar.soccer/ru/match/5615386/asa-vs-juazei
 rense/
URL;VALUE=URI:https://streamradar.soccer/ru/match/5615386/asa-vs-juazeirens
 e/
STATUS:CONFIRMED
END:VEVENT
END:VCALENDAR
