BEGIN:VCALENDAR
VERSION:2.0
PRODID:-//StreamRadar//Match Calendar//EN
CALSCALE:GREGORIAN
METHOD:PUBLISH
X-WR-CALNAME:Dekani vs Brinje Grosuplje
X-WR-TIMEZONE:America/New_York
BEGIN:VEVENT
UID:match-5615369@streamradar.soccer
SUMMARY:Dekani vs Brinje Grosuplje
DTSTAMP:20260420T060925Z
DTSTART;TZID=America/New_York:20260429T113000
DTEND;TZID=America/New_York:20260429T133000
DESCRIPTION:Где смотреть Dekani – Brinje Grosuplje в турн
 ире Словения - Druga Liga. Прямая трансляция и 
 телепрограмма.\nhttps://streamradar.soccer/ru/match/5615369/de
 kani-vs-brinje-grosuplje/
URL;VALUE=URI:https://streamradar.soccer/ru/match/5615369/dekani-vs-brinje-
 grosuplje/
STATUS:CONFIRMED
END:VEVENT
END:VCALENDAR
