BEGIN:VCALENDAR
VERSION:2.0
PRODID:-//StreamRadar//Match Calendar//EN
CALSCALE:GREGORIAN
METHOD:PUBLISH
X-WR-CALNAME:Homeboyz vs Leopards
X-WR-TIMEZONE:America/New_York
BEGIN:VEVENT
UID:match-5615348@streamradar.soccer
SUMMARY:Homeboyz vs Leopards
DTSTAMP:20260421T041414Z
DTSTART;TZID=America/New_York:20260516T070000
DTEND;TZID=America/New_York:20260516T090000
DESCRIPTION:Где смотреть Homeboyz – Леопардс в тур
 нире Kenyan Premier League. Прямая трансляция и тел
 епрограмма.\nhttps://streamradar.soccer/ru/match/5615348/homeboyz
 -vs-leopards/
URL;VALUE=URI:https://streamradar.soccer/ru/match/5615348/homeboyz-vs-leopa
 rds/
STATUS:CONFIRMED
END:VEVENT
END:VCALENDAR
