BEGIN:VCALENDAR
VERSION:2.0
PRODID:-//StreamRadar//Match Calendar//EN
CALSCALE:GREGORIAN
METHOD:PUBLISH
X-WR-CALNAME:Nairobi Utd vs Posta Rangers
X-WR-TIMEZONE:America/New_York
BEGIN:VEVENT
UID:match-5615347@streamradar.soccer
SUMMARY:Nairobi Utd vs Posta Rangers
DTSTAMP:20260421T041114Z
DTSTART;TZID=America/New_York:20260516T060000
DTEND;TZID=America/New_York:20260516T080000
DESCRIPTION:Где смотреть Nairobi Utd – Поста Рейндж
 ерз в турнире Kenyan Premier League. Прямая трансля
 ция и телепрограмма.\nhttps://streamradar.soccer/ru/match/
 5615347/nairobi-utd-vs-posta-rangers/
URL;VALUE=URI:https://streamradar.soccer/ru/match/5615347/nairobi-utd-vs-po
 sta-rangers/
STATUS:CONFIRMED
END:VEVENT
END:VCALENDAR
