BEGIN:VCALENDAR
VERSION:2.0
PRODID:-//StreamRadar//Match Calendar//EN
CALSCALE:GREGORIAN
METHOD:PUBLISH
X-WR-CALNAME:Kaloum Star vs Afrique Football Élite
X-WR-TIMEZONE:America/New_York
BEGIN:VEVENT
UID:match-5614805@streamradar.soccer
SUMMARY:Kaloum Star vs Afrique Football Élite
DTSTAMP:20260421T104931Z
DTSTART;TZID=America/New_York:20260417T120000
DTEND;TZID=America/New_York:20260417T140000
LOCATION:Stade de la Mission (Conakry)
DESCRIPTION:Где смотреть Kaloum Star – Afrique Football Élite
  в турнире Гвинея - Ligue 1. Прямая трансляци
  и телепрограмма.\nhttps://streamradar.soccer/ru/match/56148
 05/kaloum-star-vs-afrique-football-elite/
URL;VALUE=URI:https://streamradar.soccer/ru/match/5614805/kaloum-star-vs-af
 rique-football-elite/
STATUS:CONFIRMED
END:VEVENT
END:VCALENDAR
