BEGIN:VCALENDAR
VERSION:2.0
PRODID:-//StreamRadar//Match Calendar//EN
CALSCALE:GREGORIAN
METHOD:PUBLISH
X-WR-CALNAME:Unirea Dej vs Lotus Băile Felix
X-WR-TIMEZONE:America/New_York
BEGIN:VEVENT
UID:match-5614792@streamradar.soccer
SUMMARY:Unirea Dej vs Lotus Băile Felix
DTSTAMP:20260421T085448Z
DTSTART;TZID=America/New_York:20260515T110000
DTEND;TZID=America/New_York:20260515T130000
DESCRIPTION:Где смотреть Unirea Dej – Lotus Băile Felix в т
 урнире Румыния - Liga III. Прямая трансляция 
  телепрограмма.\nhttps://streamradar.soccer/ru/match/5614792/
 unirea-dej-vs-lotus-b-ile-felix/
URL;VALUE=URI:https://streamradar.soccer/ru/match/5614792/unirea-dej-vs-lot
 us-b-ile-felix/
STATUS:CONFIRMED
END:VEVENT
END:VCALENDAR
