BEGIN:VCALENDAR
VERSION:2.0
PRODID:-//StreamRadar//Match Calendar//EN
CALSCALE:GREGORIAN
METHOD:PUBLISH
X-WR-CALNAME:12 de Junio VH vs Encarnación
X-WR-TIMEZONE:America/New_York
BEGIN:VEVENT
UID:match-5614728@streamradar.soccer
SUMMARY:12 de Junio VH vs Encarnación
DTSTAMP:20260421T055548Z
DTSTART;TZID=America/New_York:20260424T160000
DTEND;TZID=America/New_York:20260424T180000
DESCRIPTION:Где смотреть 12 De Junio VH – Encarnación в ту
 рнире Парагвай - Segunda División. Прямая трансл
 ция и телепрограмма.\nhttps://streamradar.soccer/ru/match
 /5614728/12-de-junio-vh-vs-encarnacion/
URL;VALUE=URI:https://streamradar.soccer/ru/match/5614728/12-de-junio-vh-vs
 -encarnacion/
STATUS:CONFIRMED
END:VEVENT
END:VCALENDAR
