BEGIN:VCALENDAR
VERSION:2.0
PRODID:-//StreamRadar//Match Calendar//EN
CALSCALE:GREGORIAN
METHOD:PUBLISH
X-WR-CALNAME:PAOK II vs Nestos Chrisoupolis
X-WR-TIMEZONE:America/New_York
BEGIN:VEVENT
UID:match-5614719@streamradar.soccer
SUMMARY:PAOK II vs Nestos Chrisoupolis
DTSTAMP:20260421T092511Z
DTSTART;TZID=America/New_York:20260418T080000
DTEND;TZID=America/New_York:20260418T100000
DESCRIPTION:Где смотреть PAOK II – Nestos Chrisoupolis в ту
 рнире Греция - Super League 2. Прямая трансляция
  и телепрограмма.\nhttps://streamradar.soccer/ru/match/561471
 9/paok-ii-vs-nestos-chrisoupolis/
URL;VALUE=URI:https://streamradar.soccer/ru/match/5614719/paok-ii-vs-nestos
 -chrisoupolis/
STATUS:CONFIRMED
END:VEVENT
END:VCALENDAR
