BEGIN:VCALENDAR
VERSION:2.0
PRODID:-//StreamRadar//Match Calendar//EN
CALSCALE:GREGORIAN
METHOD:PUBLISH
X-WR-CALNAME:Academica vs Davis Legacy
X-WR-TIMEZONE:America/New_York
BEGIN:VEVENT
UID:match-5614692@streamradar.soccer
SUMMARY:Academica vs Davis Legacy
DTSTAMP:20260421T093625Z
DTSTART;TZID=America/New_York:20260513T220000
DTEND;TZID=America/New_York:20260514T000000
DESCRIPTION:Где смотреть Academica – Davis Legacy в турн
 ре USL League Two. Прямая трансляция и телепрог
 рамма.\nhttps://streamradar.soccer/ru/match/5614692/academica-vs-davis
 -legacy/
URL;VALUE=URI:https://streamradar.soccer/ru/match/5614692/academica-vs-davi
 s-legacy/
STATUS:CONFIRMED
END:VEVENT
END:VCALENDAR
