BEGIN:VCALENDAR
VERSION:2.0
PRODID:-//StreamRadar//Match Calendar//EN
CALSCALE:GREGORIAN
METHOD:PUBLISH
X-WR-CALNAME:Aigle Royal vs Unisport Bafang
X-WR-TIMEZONE:America/New_York
BEGIN:VEVENT
UID:match-5614675@streamradar.soccer
SUMMARY:Aigle Royal vs Unisport Bafang
DTSTAMP:20260421T104427Z
DTSTART;TZID=America/New_York:20260419T100000
DTEND;TZID=America/New_York:20260419T120000
LOCATION:Bamendzi Stadium
DESCRIPTION:Где смотреть Aigle Royal – Униспорт Баф
 анг в турнире Камерун - Elite ONE. Прямая тран
 ляция и телепрограмма.\nhttps://streamradar.soccer/ru/m
 atch/5614675/aigle-royal-vs-unisport-bafang/
URL;VALUE=URI:https://streamradar.soccer/ru/match/5614675/aigle-royal-vs-un
 isport-bafang/
STATUS:CONFIRMED
END:VEVENT
END:VCALENDAR
