BEGIN:VCALENDAR
VERSION:2.0
PRODID:-//StreamRadar//Match Calendar//EN
CALSCALE:GREGORIAN
METHOD:PUBLISH
X-WR-CALNAME:Sporting Goa vs SC Bengaluru
X-WR-TIMEZONE:America/New_York
BEGIN:VEVENT
UID:match-5614651@streamradar.soccer
SUMMARY:Sporting Goa vs SC Bengaluru
DTSTAMP:20260421T072706Z
DTSTART;TZID=America/New_York:20260515T070000
DTEND;TZID=America/New_York:20260515T090000
LOCATION:Pandit Jawaharlal Nehru Stadium
DESCRIPTION:Где смотреть Спортинг Гоа – SC Bengalur
 u в турнире Индия - I-League 2. Прямая трансляц
 я и телепрограмма.\nhttps://streamradar.soccer/ru/match/561
 4651/sporting-goa-vs-sc-bengaluru/
URL;VALUE=URI:https://streamradar.soccer/ru/match/5614651/sporting-goa-vs-s
 c-bengaluru/
STATUS:CONFIRMED
END:VEVENT
END:VCALENDAR
