BEGIN:VCALENDAR
VERSION:2.0
PRODID:-//StreamRadar//Match Calendar//EN
CALSCALE:GREGORIAN
METHOD:PUBLISH
X-WR-CALNAME:Myj-gmsc vs Bengaluru UTD
X-WR-TIMEZONE:America/New_York
BEGIN:VEVENT
UID:match-5614649@streamradar.soccer
SUMMARY:Myj-gmsc vs Bengaluru UTD
DTSTAMP:20260421T102103Z
DTSTART;TZID=America/New_York:20260514T070000
DTEND;TZID=America/New_York:20260514T090000
DESCRIPTION:Где смотреть Myj-gmsc – Bengaluru UTD в турн
 ре Индия - I-League 2. Прямая трансляция и тел
 программа.\nhttps://streamradar.soccer/ru/match/5614649/myj-gmsc-
 vs-bengaluru-utd/
URL;VALUE=URI:https://streamradar.soccer/ru/match/5614649/myj-gmsc-vs-benga
 luru-utd/
STATUS:CONFIRMED
END:VEVENT
END:VCALENDAR
