BEGIN:VCALENDAR
VERSION:2.0
PRODID:-//StreamRadar//Match Calendar//EN
CALSCALE:GREGORIAN
METHOD:PUBLISH
X-WR-CALNAME:Real Madriz vs Rancho Santana
X-WR-TIMEZONE:America/New_York
BEGIN:VEVENT
UID:match-5614640@streamradar.soccer
SUMMARY:Real Madriz vs Rancho Santana
DTSTAMP:20260421T050749Z
DTSTART;TZID=America/New_York:20260425T160000
DTEND;TZID=America/New_York:20260425T180000
LOCATION:Estadio Solidaridad Augusto Cesar Mendoza (Somoto)
DESCRIPTION:Где смотреть Реал Мадрис – Rancho Santan
 a в турнире Никарагуа - Primera División Nicaragüense. 
 рямая трансляция и телепрограмма.\nhttps://st
 reamradar.soccer/ru/match/5614640/real-madriz-vs-rancho-santana/
URL;VALUE=URI:https://streamradar.soccer/ru/match/5614640/real-madriz-vs-ra
 ncho-santana/
STATUS:CONFIRMED
END:VEVENT
END:VCALENDAR
