BEGIN:VCALENDAR
VERSION:2.0
PRODID:-//StreamRadar//Match Calendar//EN
CALSCALE:GREGORIAN
METHOD:PUBLISH
X-WR-CALNAME:Alianza Universidad vs Santos
X-WR-TIMEZONE:America/New_York
BEGIN:VEVENT
UID:match-5614636@streamradar.soccer
SUMMARY:Alianza Universidad vs Santos
DTSTAMP:20260421T161641Z
DTSTART;TZID=America/New_York:20260504T140000
DTEND;TZID=America/New_York:20260504T160000
DESCRIPTION:Где смотреть Альянса Универсидад 
  Santos в турнире Перу - Segunda División Перу. Прям
 ая трансляция и телепрограмма.\nhttps://streamrad
 ar.soccer/ru/match/5614636/alianza-universidad-vs-santos/
URL;VALUE=URI:https://streamradar.soccer/ru/match/5614636/alianza-universid
 ad-vs-santos/
STATUS:CONFIRMED
END:VEVENT
END:VCALENDAR
