BEGIN:VCALENDAR
VERSION:2.0
PRODID:-//StreamRadar//Match Calendar//EN
CALSCALE:GREGORIAN
METHOD:PUBLISH
X-WR-CALNAME:Sport Huancayo 2 vs Tacna Heroica
X-WR-TIMEZONE:America/New_York
BEGIN:VEVENT
UID:match-5614629@streamradar.soccer
SUMMARY:Sport Huancayo 2 vs Tacna Heroica
DTSTAMP:20260421T084412Z
DTSTART;TZID=America/New_York:20260501T120000
DTEND;TZID=America/New_York:20260501T140000
DESCRIPTION:Где смотреть Sport Huancayo 2 – Tacna Heroica в 
 урнире Перу - Segunda División Перу. Прямая тран
 ляция и телепрограмма.\nhttps://streamradar.soccer/ru/m
 atch/5614629/sport-huancayo-2-vs-tacna-heroica/
URL;VALUE=URI:https://streamradar.soccer/ru/match/5614629/sport-huancayo-2-
 vs-tacna-heroica/
STATUS:CONFIRMED
END:VEVENT
END:VCALENDAR
