BEGIN:VCALENDAR
VERSION:2.0
PRODID:-//StreamRadar//Match Calendar//EN
CALSCALE:GREGORIAN
METHOD:PUBLISH
X-WR-CALNAME:Durban City vs TS Galaxy
X-WR-TIMEZONE:America/New_York
BEGIN:VEVENT
UID:match-5614596@streamradar.soccer
SUMMARY:Durban City vs TS Galaxy
DTSTAMP:20260419T122109Z
DTSTART;TZID=America/New_York:20260502T120000
DTEND;TZID=America/New_York:20260502T140000
LOCATION:Peter Mokaba Stadium
DESCRIPTION:Где смотреть Durban City – TS Galaxy в турни
 ре ЮАР - Nedbank Cup. Прямая трансляция и телеп
 ограмма.\nhttps://streamradar.soccer/ru/match/5614596/durban-city-v
 s-ts-galaxy/
URL;VALUE=URI:https://streamradar.soccer/ru/match/5614596/durban-city-vs-ts
 -galaxy/
STATUS:CONFIRMED
END:VEVENT
END:VCALENDAR
