BEGIN:VCALENDAR
VERSION:2.0
PRODID:-//StreamRadar//Match Calendar//EN
CALSCALE:GREGORIAN
METHOD:PUBLISH
X-WR-CALNAME:Maccabi Netanya vs Hapoel Haifa
X-WR-TIMEZONE:America/New_York
BEGIN:VEVENT
UID:match-5614540@streamradar.soccer
SUMMARY:Maccabi Netanya vs Hapoel Haifa
DTSTAMP:20260421T084327Z
DTSTART;TZID=America/New_York:20260513T130000
DTEND;TZID=America/New_York:20260513T150000
LOCATION:Netanya Stadium
DESCRIPTION:Где смотреть Маккаби (Нетания) – Х
 поэль (Хайфа) в турнире Израиль - Лига Ха'
 ль. Прямая трансляция и телепрограмма.\nht
 tps://streamradar.soccer/ru/match/5614540/maccabi-netanya-vs-hapoel-haifa/
URL;VALUE=URI:https://streamradar.soccer/ru/match/5614540/maccabi-netanya-v
 s-hapoel-haifa/
STATUS:CONFIRMED
END:VEVENT
END:VCALENDAR
