BEGIN:VCALENDAR
VERSION:2.0
PRODID:-//StreamRadar//Match Calendar//EN
CALSCALE:GREGORIAN
METHOD:PUBLISH
X-WR-CALNAME:MetroStars vs Croydon Kings
X-WR-TIMEZONE:America/New_York
BEGIN:VEVENT
UID:match-5614517@streamradar.soccer
SUMMARY:MetroStars vs Croydon Kings
DTSTAMP:20260421T170528Z
DTSTART;TZID=America/New_York:20260815T053000
DTEND;TZID=America/New_York:20260815T073000
LOCATION:TK Shutter Reserve
DESCRIPTION:Где смотреть MetroStars – Croydon Kings в тур
 ире Австралия - NPL SA. Прямая трансляция и 
 елепрограмма.\nhttps://streamradar.soccer/ru/match/5614517/met
 rostars-vs-croydon-kings/
URL;VALUE=URI:https://streamradar.soccer/ru/match/5614517/metrostars-vs-cro
 ydon-kings/
STATUS:CONFIRMED
END:VEVENT
END:VCALENDAR
