BEGIN:VCALENDAR
VERSION:2.0
PRODID:-//StreamRadar//Match Calendar//EN
CALSCALE:GREGORIAN
METHOD:PUBLISH
X-WR-CALNAME:Croydon Kings vs Sturt Lions
X-WR-TIMEZONE:America/New_York
BEGIN:VEVENT
UID:match-5614516@streamradar.soccer
SUMMARY:Croydon Kings vs Sturt Lions
DTSTAMP:20260421T170524Z
DTSTART;TZID=America/New_York:20260808T010000
DTEND;TZID=America/New_York:20260808T030000
LOCATION:Regency Park
DESCRIPTION:Где смотреть Croydon Kings – Sturt Lions в тур
 нире Австралия - NPL SA. Прямая трансляция и 
 телепрограмма.\nhttps://streamradar.soccer/ru/match/5614516/cr
 oydon-kings-vs-sturt-lions/
URL;VALUE=URI:https://streamradar.soccer/ru/match/5614516/croydon-kings-vs-
 sturt-lions/
STATUS:CONFIRMED
END:VEVENT
END:VCALENDAR
