BEGIN:VCALENDAR
VERSION:2.0
PRODID:-//StreamRadar//Match Calendar//EN
CALSCALE:GREGORIAN
METHOD:PUBLISH
X-WR-CALNAME:Para Hills Knights vs Croydon Kings
X-WR-TIMEZONE:America/New_York
BEGIN:VEVENT
UID:match-5614507@streamradar.soccer
SUMMARY:Para Hills Knights vs Croydon Kings
DTSTAMP:20260421T204153Z
DTSTART;TZID=America/New_York:20260530T013000
DTEND;TZID=America/New_York:20260530T033000
DESCRIPTION:Где смотреть Para Hills Knights – Croydon Kings в
  турнире Австралия - NPL SA. Прямая трансляц
 я и телепрограмма.\nhttps://streamradar.soccer/ru/match/561
 4507/para-hills-knights-vs-croydon-kings/
URL;VALUE=URI:https://streamradar.soccer/ru/match/5614507/para-hills-knight
 s-vs-croydon-kings/
STATUS:CONFIRMED
END:VEVENT
END:VCALENDAR
