BEGIN:VCALENDAR
VERSION:2.0
PRODID:-//StreamRadar//Match Calendar//EN
CALSCALE:GREGORIAN
METHOD:PUBLISH
X-WR-CALNAME:Sturt Lions vs Croydon Kings
X-WR-TIMEZONE:America/New_York
BEGIN:VEVENT
UID:match-5614505@streamradar.soccer
SUMMARY:Sturt Lions vs Croydon Kings
DTSTAMP:20260421T093043Z
DTSTART;TZID=America/New_York:20260516T013000
DTEND;TZID=America/New_York:20260516T033000
LOCATION:Karinya Reserve
DESCRIPTION:Где смотреть Sturt Lions – Croydon Kings в тур
 нире Австралия - NPL SA. Прямая трансляция и 
 телепрограмма.\nhttps://streamradar.soccer/ru/match/5614505/st
 urt-lions-vs-croydon-kings/
URL;VALUE=URI:https://streamradar.soccer/ru/match/5614505/sturt-lions-vs-cr
 oydon-kings/
STATUS:CONFIRMED
END:VEVENT
END:VCALENDAR
