BEGIN:VCALENDAR
VERSION:2.0
PRODID:-//StreamRadar//Match Calendar//EN
CALSCALE:GREGORIAN
METHOD:PUBLISH
X-WR-CALNAME:Lyseng vs Vejgaard B
X-WR-TIMEZONE:America/New_York
BEGIN:VEVENT
UID:match-5613197@streamradar.soccer
SUMMARY:Lyseng vs Vejgaard B
DTSTAMP:20260421T062042Z
DTSTART;TZID=America/New_York:20260502T073000
DTEND;TZID=America/New_York:20260502T093000
LOCATION:Lyseng Idraetspark
DESCRIPTION:Где смотреть Lyseng – Vejgaard B в турнире
  Дания - 3-й дивизион. Прямая трансляция и 
 елепрограмма.\nhttps://streamradar.soccer/ru/match/5613197/lys
 eng-vs-vejgaard-b/
URL;VALUE=URI:https://streamradar.soccer/ru/match/5613197/lyseng-vs-vejgaar
 d-b/
STATUS:CONFIRMED
END:VEVENT
END:VCALENDAR
