BEGIN:VCALENDAR
VERSION:2.0
PRODID:-//StreamRadar//Match Calendar//EN
CALSCALE:GREGORIAN
METHOD:PUBLISH
X-WR-CALNAME:Vejgaard B vs Odder
X-WR-TIMEZONE:America/New_York
BEGIN:VEVENT
UID:match-5613195@streamradar.soccer
SUMMARY:Vejgaard B vs Odder
DTSTAMP:20260421T054712Z
DTSTART;TZID=America/New_York:20260426T100000
DTEND;TZID=America/New_York:20260426T120000
LOCATION:Soffy Road (Aalborg)
DESCRIPTION:Где смотреть Vejgaard B – Odder в турнире 
 Дания - 3-й дивизион. Прямая трансляция и т
 елепрограмма.\nhttps://streamradar.soccer/ru/match/5613195/vejg
 aard-b-vs-odder/
URL;VALUE=URI:https://streamradar.soccer/ru/match/5613195/vejgaard-b-vs-odd
 er/
STATUS:CONFIRMED
END:VEVENT
END:VCALENDAR
