BEGIN:VCALENDAR
VERSION:2.0
PRODID:-//StreamRadar//Match Calendar//EN
CALSCALE:GREGORIAN
METHOD:PUBLISH
X-WR-CALNAME:Lyseng vs Holbæk B&I
X-WR-TIMEZONE:America/New_York
BEGIN:VEVENT
UID:match-5613191@streamradar.soccer
SUMMARY:Lyseng vs Holbæk B&I
DTSTAMP:20260421T091938Z
DTSTART;TZID=America/New_York:20260418T073000
DTEND;TZID=America/New_York:20260418T093000
LOCATION:Lyseng Idraetspark
DESCRIPTION:Где смотреть Lyseng – Holbæk B&I в турнир
  Дания - 3-й дивизион. Прямая трансляция и 
 телепрограмма.\nhttps://streamradar.soccer/ru/match/5613191/ly
 seng-vs-holbak-b-i/
URL;VALUE=URI:https://streamradar.soccer/ru/match/5613191/lyseng-vs-holbak-
 b-i/
STATUS:CONFIRMED
END:VEVENT
END:VCALENDAR
