BEGIN:VCALENDAR
VERSION:2.0
PRODID:-//StreamRadar//Match Calendar//EN
CALSCALE:GREGORIAN
METHOD:PUBLISH
X-WR-CALNAME:Vanløse vs Nykøbing
X-WR-TIMEZONE:America/New_York
BEGIN:VEVENT
UID:match-5613189@streamradar.soccer
SUMMARY:Vanløse vs Nykøbing
DTSTAMP:20260421T062034Z
DTSTART;TZID=America/New_York:20260509T080000
DTEND;TZID=America/New_York:20260509T100000
LOCATION:Vanlose Idraetspark
DESCRIPTION:Где смотреть Vanløse – ЛФА в турнире 
 ания - 3-й дивизион. Прямая трансляция и т
 лепрограмма.\nhttps://streamradar.soccer/ru/match/5613189/vanlo
 se-vs-nykobing/
URL;VALUE=URI:https://streamradar.soccer/ru/match/5613189/vanlose-vs-nykobi
 ng/
STATUS:CONFIRMED
END:VEVENT
END:VCALENDAR
