BEGIN:VCALENDAR
VERSION:2.0
PRODID:-//StreamRadar//Match Calendar//EN
CALSCALE:GREGORIAN
METHOD:PUBLISH
X-WR-CALNAME:Vanløse vs Brønshøj
X-WR-TIMEZONE:America/New_York
BEGIN:VEVENT
UID:match-5613180@streamradar.soccer
SUMMARY:Vanløse vs Brønshøj
DTSTAMP:20260421T104217Z
DTSTART;TZID=America/New_York:20260418T080000
DTEND;TZID=America/New_York:20260418T100000
LOCATION:Vanlose Idraetspark
DESCRIPTION:Где смотреть Vanløse – Brønshøj в турнир
 е Дания - 3-й дивизион. Прямая трансляция и
  телепрограмма.\nhttps://streamradar.soccer/ru/match/5613180/v
 anlose-vs-bronshoj/
URL;VALUE=URI:https://streamradar.soccer/ru/match/5613180/vanlose-vs-bronsh
 oj/
STATUS:CONFIRMED
END:VEVENT
END:VCALENDAR
