BEGIN:VCALENDAR
VERSION:2.0
PRODID:-//StreamRadar//Match Calendar//EN
CALSCALE:GREGORIAN
METHOD:PUBLISH
X-WR-CALNAME:Thisted vs Vendsyssel
X-WR-TIMEZONE:America/New_York
BEGIN:VEVENT
UID:match-5613160@streamradar.soccer
SUMMARY:Thisted vs Vendsyssel
DTSTAMP:20260421T071415Z
DTSTART;TZID=America/New_York:20260513T130000
DTEND;TZID=America/New_York:20260513T150000
DESCRIPTION:Где смотреть Thisted – Веннсюссель в 
 урнире Дания - 2-й дивизион. Прямая трансл
 яция и телепрограмма.\nhttps://streamradar.soccer/ru/matc
 h/5613160/thisted-vs-vendsyssel/
URL;VALUE=URI:https://streamradar.soccer/ru/match/5613160/thisted-vs-vendsy
 ssel/
STATUS:CONFIRMED
END:VEVENT
END:VCALENDAR
