BEGIN:VCALENDAR
VERSION:2.0
PRODID:-//StreamRadar//Match Calendar//EN
CALSCALE:GREGORIAN
METHOD:PUBLISH
X-WR-CALNAME:Skive vs VSK Århus
X-WR-TIMEZONE:America/New_York
BEGIN:VEVENT
UID:match-5613157@streamradar.soccer
SUMMARY:Skive vs VSK Århus
DTSTAMP:20260421T071526Z
DTSTART;TZID=America/New_York:20260513T130000
DTEND;TZID=America/New_York:20260513T150000
DESCRIPTION:Где смотреть Скиве – VSK Århus в турни
 ре Дания - 2-й дивизион. Прямая трансляция 
 и телепрограмма.\nhttps://streamradar.soccer/ru/match/5613157
 /skive-vs-vsk-arhus/
URL;VALUE=URI:https://streamradar.soccer/ru/match/5613157/skive-vs-vsk-arhu
 s/
STATUS:CONFIRMED
END:VEVENT
END:VCALENDAR
