BEGIN:VCALENDAR
VERSION:2.0
PRODID:-//StreamRadar//Match Calendar//EN
CALSCALE:GREGORIAN
METHOD:PUBLISH
X-WR-CALNAME:Brindabella vs Canberra Juventus
X-WR-TIMEZONE:America/New_York
BEGIN:VEVENT
UID:match-5613125@streamradar.soccer
SUMMARY:Brindabella vs Canberra Juventus
DTSTAMP:20260421T101553Z
DTSTART;TZID=America/New_York:20260513T053000
DTEND;TZID=America/New_York:20260513T073000
LOCATION:Calwell Field
DESCRIPTION:Где смотреть Brindabella – Canberra Juventus в т
 урнире Австралия - NPL ACT. Прямая трансляци
  и телепрограмма.\nhttps://streamradar.soccer/ru/match/56131
 25/brindabella-vs-canberra-juventus/
URL;VALUE=URI:https://streamradar.soccer/ru/match/5613125/brindabella-vs-ca
 nberra-juventus/
STATUS:CONFIRMED
END:VEVENT
END:VCALENDAR
